BEGIN:VCALENDAR
VERSION:2.0
PRODID:-//wp-events-plugin.com//7.2.3.1//EN
BEGIN:VEVENT
UID:25@ibsu.edu.ge
DTSTART:20250216T090000Z
DTEND:20250216T130000Z
DTSTAMP:20250219T121514Z
URL:https://ibsu.edu.ge/en/events/%e1%83%90%e1%83%9b%e1%83%94%e1%83%a0%e1%
 83%98%e1%83%99%e1%83%98%e1%83%a1%e1%83%9b%e1%83%aa%e1%83%9d%e1%83%93%e1%83
 %9c%e1%83%94%e1%83%9d%e1%83%91%e1%83%90-%e1%83%9b%e1%83%9d%e1%83%a1%e1%83%
 ac%e1%83%90/
SUMMARY:[:ge]ამერიკისმცოდნეობა მოს
 წავლეებისთვის[:en]American Studies for Pupils[:]
DESCRIPTION:[:ge]გაინტერესებს ამერიკი
 ს კულტურა\, ისტორია და უნიკა
 ლური ფაქტები? მაშინ IBSU-ს უფას
 ო პროექტი 'ამერიკისმცოდნეო
 ბა მოსწავლეებისთვის' შენთვ
 ისაა!\n\nშავი ზღვის საერთაშორ
 ისო უნივერსიტეტი\, მე-10\, მე–11 
 და მე-12 კლასის მოსწავლეებს\, 
 გთავაზობთ ტრენინგს\, სადაც შ
 ეისწავლით ამერიკის კულტურა
 ს\, ისტორიას\, პოლიტიკასა თუ ყ
 ოველდღიურ ცხოვრებას.\n\nმოდი 
 ტრენინგზე და ჩაერთე სახალი
 სო აქტივობებსა და თამაშებშ
 ი.\n\nტრენინგის მონაწილეებს გ
 ადაეცემათ სერტიფიკატები.\nტ
 რენინგი ჩატარდება 16 თებერვა
 ლს.\nდრო: 13:00-17:00\nდარეგისტრირდი: 
 https://forms.gle/WjTQZGTdyBwhWKL46[:en]Are you interested in American cul
 ture\, history\, and unique facts? Then IBSU's free project 'American Stud
 ies for Pupils' is for you!\n\nThe International Black Sea University offe
 rs training for 10th\, 11th\, and 12th graders where you will learn about 
 American culture\, history\, politics\, and daily life.\n\nCome to the tra
 ining and participate in fun activities and games.\n\nParticipants will re
 ceive IBSU certificates.\n\nThe training will be held on February 16th.\n\
 nTime: 13:00-17:00\n\nRegister: https://forms.gle/WjTQZGTdyBwhWKL46[:]
ATTACH;FMTTYPE=image/jpeg:https://ibsu.edu.ge/wp-content/uploads/2025/02/s
 abakalavro-axali_FBpost-copy-3-scaled.jpg
END:VEVENT
END:VCALENDAR