BEGIN:VCALENDAR
VERSION:2.0
PRODID:-//wp-events-plugin.com//7.2.3.1//EN
BEGIN:VEVENT
UID:117@ibsu.edu.ge
DTSTART:20250521T110000Z
DTEND:20250521T120000Z
DTSTAMP:20250514T084049Z
URL:https://ibsu.edu.ge/en/events/%e1%83%92%e1%83%90%e1%83%9c%e1%83%95%e1%
 83%98%e1%83%97%e1%83%90%e1%83%a0%e1%83%94%e1%83%91%e1%83%98%e1%83%a1-%e1%8
 3%a1%e1%83%90%e1%83%94%e1%83%a0%e1%83%97%e1%83%90%e1%83%a8%e1%83%9d%e1%83%
 a0%e1%83%98/
SUMMARY:[:ge]განვითარების საერთაშო
 რისო დახმარება: საქმიანობი
 ს პრაქტიკული ასპექტები და კ
 არიერული შესაძლებლობები[:]
DESCRIPTION:[:ge]IBSU-ს კარიერის დაგეგმვი
 ს სამსახურის ორგანიზებით 21 
 მაისს\, 15:00 საათზე\, შავი ზღვის 
 საერთაშორისო უნივერსიტეტშ
 ი ჩატარდება ლექცია თემაზე: "
 განვითარების საერთაშორისო 
 დახმარება: საქმიანობის პრა
 ქტიკული ასპექტები და კარიე
 რული შესაძლებლობები."\n\nსპიკ
 ერი: ივანე შამუგია\, UNDP-ის საე
 რთაშორისო კონსულტანტი პოლი
 ტიკის მართვისა და ინსტიტუც
 იური რეფორმების მიმართულებ
 ით\, დიპლომატიის მაგისტრი\n\n
 📌  ბიბლიოთეკის საკონფერენც
 იო (B კორპუსი)[:]
END:VEVENT
END:VCALENDAR