BEGIN:VCALENDAR
VERSION:2.0
PRODID:-//wp-events-plugin.com//7.2.3.1//EN
BEGIN:VEVENT
UID:107@ibsu.edu.ge
DTSTART:20250515T100000Z
DTEND:20250515T110000Z
DTSTAMP:20250508T060106Z
URL:https://ibsu.edu.ge/en/events/%e1%83%93%e1%83%9d%e1%83%99%e1%83%a3%e1%
 83%9b%e1%83%94%e1%83%9c%e1%83%a2%e1%83%a3%e1%83%a0%e1%83%98-%e1%83%a4%e1%8
 3%98%e1%83%9a%e1%83%9b%e1%83%98%e1%83%a1-%e1%83%97%e1%83%90%e1%83%9d%e1%83
 %91/
SUMMARY:[:ge]დოკუმენტური ფილმის „თა
 ობა კონფლიქტს მიღმა“ ჩვენე
 ბა - დისკუსია[:]
DESCRIPTION:[:ge]შავი ზღვის საერთაშორ
 ისო უნივერსიტეტში\, საერთაშ
 ორისო ურთიერთობების საბაკა
 ლავრო პროგრამის ორგანიზები
 თ\, "მე-16 ელემენტი" დოკუმენტურ
 ი ფილმის „თაობა კონფლიქტს მ
 იღმა“ ჩვენება - დისკუსიას გა
 მართავს.\n\nშეხვედრაზე სტუდე
 ნტებს ექნებათ საშუალება ჩა
 ერთონ დისკუსიაში ისეთ მნიშ
 ვნელოვან თემებზე როგორებიც
 აა მშვიდობის მშენებლობა\, კო
 ნფლიქტის ტრანსფორმაცია და 
 თაობებს შორის გაუცხოების პ
 რობლემა.\n\nშეხვედრას ფასილი
 ტაციას გაუწევს:\n\nელიკო ბენდ
 ელიანი - მშვიდობისა და კონფლ
 იქტების მკვლევარი\, ნაციონა
 ლიზმისა და კონფლიქტების კვ
 ლევის ინსტიტუტი.\n\n“მე-16 ელემ
 ენტი” წარმოადგენს ახალგაზრ
 დულ საინიციატივო ჯგუფს\, რომ
 ლის მიზანია მშვიდობის მშენ
 ებლობისა და კონფლიქტების ტ
 რანფორმაციის შესახებ საზოგ
 ადოების ინფორმირებულობა.\n\n
 დასწრების მსურველებმა შეავ
 სეთ სარეგისტრაციო ფორმა: https:/
 /rb.gy/4f3x3l\n\n📌 ბიბლიოთეკა[:]
ATTACH;FMTTYPE=image/jpeg:https://ibsu.edu.ge/wp-content/uploads/2025/05/1
 5-მაისი-პოსტერი-scaled.jpg
END:VEVENT
END:VCALENDAR