BEGIN:VCALENDAR
VERSION:2.0
PRODID:-//wp-events-plugin.com//7.2.3.1//EN
BEGIN:VEVENT
UID:26@ibsu.edu.ge
DTSTART:20250222T100000Z
DTEND:20250222T130000Z
DTSTAMP:20250221T064645Z
URL:https://ibsu.edu.ge/en/events/%e1%83%98%e1%83%9b%e1%83%98%e1%83%a2%e1%
 83%98%e1%83%a0%e1%83%94%e1%83%91%e1%83%a3%e1%83%9a%e1%83%98-%e1%83%a1%e1%8
 3%90%e1%83%a1%e1%83%90%e1%83%9b%e1%83%90%e1%83%a0%e1%83%97%e1%83%9a%e1%83%
 9d-%e1%83%9b/
SUMMARY:[:ge]იმიტირებული სასამართლ
 ო მოსწავლეებისთვის[:en]Mock Trial For Pu
 pils[:]
DESCRIPTION:[:ge]ხარ მე-11 ან მე-12 კლასის 
 მოსწავლე? გაინტერესებს იურ
 ისტის კარიერა?\n\nმაშინ მოდი IB
 SU-ში\, დაესწარი უფასო ტრენინგ
 ს ‘იმიტირებული სასამართლო’
  და გამოცადე თავი ადვოკატის
 \, პროკურორის ან მოსამართლის
  როლში. გაეცანი სასამართლო პ
 როცესის სტრუქტურას\, გაიგე მ
 ეტი თუ როგორ მიმდინარეობს ს
 ასამართლო სხდომა და როგორ უ
 ნდა მოიგო საქმე.\n\nტრენინგი გ
 აიმართება 22-23 თებერვალს. \n\nჩ
 ვენთან დაგხვდება მეგობრული
  გარემო და გამოცდილ ტრენერ
 თა მხარდაჭერა.\n\nტრენინგის მ
 ონაწილეებს გადაეცემათ სერტ
 იფიკატები და IBSU-ს ბრენდირებუ
 ლი საჩუქრები.\n\nდასწრების მს
 ურველები დარეგისტრირდით მი
 თითებულ ბმულზე: https://shorturl.at/B5GCh \n\n&
 nbsp\;[:en]Are you an 11th or 12th-grader interested in a legal career?\n\
 nThen join #IBSU's free 'Mock Trial' training and experience being a lawye
 r\, prosecutor\, or judge!\n\nLearn how court proceedings work\, discover 
 the ins and outs of court sessions\, and master the art of winning cases.\
 n\nTraining takes place February 22-23.\n\nYou'll find a welcoming environ
 ment with guidance from experienced trainers.\n\nAll participants receive 
 certificates and IBSU-branded gifts.\n\nInterested? Register at the very l
 ink: https://shorturl.at/B5GCh\n\n&nbsp\;[:]
ATTACH;FMTTYPE=image/jpeg:https://ibsu.edu.ge/wp-content/uploads/2025/02/
 აცვლითი-პროგრამები-01-1-scaled.jpg
END:VEVENT
END:VCALENDAR