BEGIN:VCALENDAR
VERSION:2.0
PRODID:-//wp-events-plugin.com//7.2.3.1//EN
BEGIN:VEVENT
UID:94@ibsu.edu.ge
DTSTART:20250601T050000Z
DTEND:20250601T070000Z
DTSTAMP:20250428T080743Z
URL:https://ibsu.edu.ge/en/events/%e1%83%98%e1%83%9c%e1%83%92%e1%83%9a%e1%
 83%98%e1%83%a1%e1%83%a3%e1%83%a0%e1%83%98-%e1%83%94%e1%83%9c%e1%83%98%e1%8
 3%a1-%e1%83%a3%e1%83%a4%e1%83%90%e1%83%a1%e1%83%9d-%e1%83%98%e1%83%9b%e1%8
 3%98/
SUMMARY:[:ge]ინგლისური ენის უფასო ი
 მიტირებული გამოცდა[:]
DESCRIPTION:[:ge]\nაბიტურიენტებო\, 1 და 8 ი
 ვნისს\, შავი ზღვის საერთაშორ
 ისო უნივერსიტეტში ჩატარდებ
 ა ინგლისური ენის უფასო იმიტ
 ირებული გამოცდა.\n\n\n \n\n\nდარეგ
 ისტრირდი\, შეამოწმე შენი ცოდ
 ნა გამოცდებამდე და მიიღე გა
 მოცდილება\, რაც წინასაგამოც
 დო სტრესის მოხსნაში დაგეხმ
 არება.\n\n\n \n\n\nიმიტირებული გამ
 ოცდა ჩატარდება სპეციალურად
  ორგანიზებულ საგამოცდო სივ
 რცეში.\n\n\n \n\n\nმისამართი: თბილი
 სი\, დ. აღმაშენებლის ხეივანი\,
  მე-13 კმ. #2\n\n\n \n\n\nსაუკეთესო შედ
 ეგის მქონე აბიტურიენტები მ
 იიღებენ IBSU-ს სასწავლო ვაუჩერ
 ებს.  \n\n\n \n\n\nდარეგისტრირდი წი
 ნასწარ: https://shorturl.at/c19jz\n\n\n\n[:]
ATTACH;FMTTYPE=image/jpeg:https://ibsu.edu.ge/wp-content/uploads/2025/04/
 მიტირებული-გამოცდა-ფბ.jpg
END:VEVENT
END:VCALENDAR