BEGIN:VCALENDAR
VERSION:2.0
PRODID:-//wp-events-plugin.com//7.2.3.1//EN
BEGIN:VEVENT
UID:120@ibsu.edu.ge
DTSTART:20250612T050000Z
DTEND:20250612T140000Z
DTSTAMP:20250514T093407Z
URL:https://ibsu.edu.ge/en/events/%e1%83%9b%e1%83%94-4-%e1%83%a1%e1%83%90%
 e1%83%94%e1%83%a0%e1%83%97%e1%83%90%e1%83%a8%e1%83%9d%e1%83%a0%e1%83%98%e1
 %83%a1%e1%83%9d-%e1%83%9b%e1%83%a3%e1%83%9a%e1%83%a2%e1%83%98%e1%83%93%e1%
 83%98/
SUMMARY:[:ge]მე-4 საერთაშორისო მულტი
 დისციპლინური სტუდენტური კო
 ნფერენცია[:en]The 4th International Multidisciplinary St
 udent Conference[:]
DESCRIPTION:[:ge]შავი ზღვის საერთაშორ
 ისო უნივერსიტეტი 2025 წლის 12 ი
 ვნისს  უმასპინძლებს რიგით 
 მე-4 საერთაშორისო მულტიდისც
 იპლინურ სტუდენტურ კონფერენ
 ციას. \n\nკონფერენციის ჩატარ
 ების ადგილი: თბილისი\, აღმაშ
 ენებლის ხეივანი მე-13 კმ\, 2\, B ბ
 ლოკი\, III სართული\, დიდი საკონფ
 ერენციო დარბაზი.\n\nდეტალური 
 ინფორმაციისთვის ეწვიეთ ბმ
 ულს.[:en]The International Black Sea University will host the 4th I
 nternational Multidisciplinary Student Conference on June 12\, 2025.\n\n
 Conference Venue: Tbilisi\, Agmashenebeli Alley 13th km\, 2\, Block B\, 3
 rd floor\, Large Conference Hall\n\nFor Further information please see the
  link: https://bit.ly/3QMq55s\n\n[:]
ATTACH;FMTTYPE=image/jpeg:https://ibsu.edu.ge/wp-content/uploads/2025/05/
 ტუდენტური-კონფ-1024x1024-1.jpg
END:VEVENT
END:VCALENDAR