BEGIN:VCALENDAR
VERSION:2.0
PRODID:-//wp-events-plugin.com//7.2.3.1//EN
BEGIN:VEVENT
UID:81@ibsu.edu.ge
DTSTART:20250416T090000Z
DTEND:20250416T100000Z
DTSTAMP:20250410T085810Z
URL:https://ibsu.edu.ge/en/events/%e1%83%9e%e1%83%a0%e1%83%9d%e1%83%94%e1%
 83%a5%e1%83%a2%e1%83%98%e1%83%a1-%e1%83%9e%e1%83%98%e1%83%a0%e1%83%95%e1%8
 3%94%e1%83%9a%e1%83%98-%e1%83%9c%e1%83%90%e1%83%91%e1%83%98%e1%83%af%e1%83
 %98/
SUMMARY:[:ge]პროექტის 'პირველი ნაბი
 ჯი არქიტექტურაში' დახურვის 
 ცერემონია[:]
DESCRIPTION:[:ge]16 აპრილს\, 13:00 საათზე\, შა
 ვი ზღვის საერთაშორისო უნივ
 ერსიტეტში გაიმართება პროექ
 ტის 'პირველი ნაბიჯი არქიტექ
 ტურაში' დახურვის ცერემონია.\
 n\nღონისძიებაზე პროექტის მონ
 აწილეები წარადგენენ მაკეტე
 ბს\, ხოლო გამარჯვებულები დაჯ
 ილდოვდებიან.[:]
END:VEVENT
END:VCALENDAR