BEGIN:VCALENDAR
VERSION:2.0
PRODID:-//wp-events-plugin.com//7.2.3.1//EN
BEGIN:VEVENT
UID:153@ibsu.edu.ge
DTSTART:20260930T060000Z
DTEND:20260930T060000Z
DTSTAMP:20260423T073501Z
URL:https://ibsu.edu.ge/en/events/%e1%83%a0%e1%83%94%e1%83%a1%e1%83%9e%e1%
 83%a3%e1%83%91%e1%83%9a%e1%83%98%e1%83%99%e1%83%a3%e1%83%a0%e1%83%98-%e1%8
 3%99%e1%83%9d%e1%83%9c%e1%83%a4%e1%83%94%e1%83%a0%e1%83%94%e1%83%9c%e1%83%
 aa%e1%83%98/
SUMMARY:[:ge]რესპუბლიკური კონფერენ
 ცია მეცნიერებისთვის და ახა
 ლგაზრდა მკვლევრებისთვის ” 
 იმპერიები\, იმპერიალიზმი\, კ
 ოლონიალიზმი და პოსტიმპერიუ
 ლი ურთიერთობები. ლინგვისტუ
 რი იმპერიალიზმი\, პროპაგანდ
 ა და მედია”[:en]Republican Conference for Scientists and
  Young Researchers “Empires\, Imperialism\, Colonialism and Post-Imperia
 l Relations. Linguistic Imperialism\, Propaganda and Media”[:]
DESCRIPTION:[:ge]შავი ზღვის საერთაშორ
 ისო უნივერსიტეტში ტარდება 
 რესპუბლიკური კონფერენცია მ
 ეცნიერებისთვის და ახალგაზრ
 და მკვლევრებისთვის:\n\n“იმპე
 რიები\, იმპერიალიზმი\, კოლონ
 იალიზმი და პოსტიმპერიული უ
 რთიერთობები. ლინგვისტური ი
 მპერიალიზმი\, პროპაგანდა და 
 მედია”\n\nკონფერენცია ფინანს
 დება შოთა რუსთაველის ეროვნ
 ული სამეცნიერო ფონდის მიერ\n
 \nსაქართველო იმპერიების გზა
 ჯვარედინზე.რუსთაველის ფონდ
 ი\, ფუნდამენტური კვლევები\,ს
 აგრანტო ხელშეკრულება NFR 22-272.\n\n
 სამუშაო ენები: ქართული\, ინგ
 ლისური\n\nაბსტრაქტები მიიღებ
 ა 2026 წლის 30 მარტიდან 30 მაისის 
 ჩათვლით\, ქართულ და ინგლისურ
  ენებზე. 500 ნიშანი.\n\nვრცლად\n\n&nbs
 p\;[:en]The International Black Sea University is hosting a Republican Con
 ference for Scientists and Young Researchers:\n\n“Empires\, Imperialism\
 , Colonialism and Post-Imperial Relations. Linguistic Imperialism\, Propag
 anda and Media”\n\nThe conference is funded by the Shota Rustaveli Natio
 nal Science Foundation\n\nGeorgia at the Crossroads of Empires. Rustaveli 
 Foundation\, Fundamental Research\, Grant Agreement NFR 22-272.\n\nWorking
  languages: Georgian\, English\n\nAbstracts are accepted from March 30\, 2
 026\, inclusive\, in Georgian and English. 500 marks.\n\nRead more[:]
END:VEVENT
END:VCALENDAR