BEGIN:VCALENDAR
VERSION:2.0
PRODID:-//wp-events-plugin.com//7.2.3.1//EN
BEGIN:VEVENT
UID:124@ibsu.edu.ge
DTSTART:20250522T110000Z
DTEND:20250522T120000Z
DTSTAMP:20250516T054627Z
URL:https://ibsu.edu.ge/en/events/%e1%83%a0%e1%83%9d%e1%83%92%e1%83%9d%e1%
 83%a0-%e1%83%98%e1%83%a5%e1%83%9b%e1%83%9c%e1%83%94%e1%83%91%e1%83%90-%e1%
 83%aa%e1%83%98%e1%83%a4%e1%83%a0%e1%83%a3%e1%83%9a%e1%83%98-%e1%83%9e%e1%8
 3%a0/
SUMMARY:[:ge]როგორ იქმნება ციფრული 
 პროდუქტები\, რომლებიც გვიყვ
 არს?[:]
DESCRIPTION:[:ge]22 მაისს\, 15:00 საათზე\, IBSU-შ
 ი გაიმართება Helio AI-ის "როგორ ი
 ქმნება ციფრული პროდუქტები\, 
 რომლებიც გვიყვარს?"\nსპიკერი
 : ოლიკო მაჭავარიანი\n\nIT პროდუ
 ქტის მენეჯერი | Helio AI\, Silk Hospitality\n\nA10
 1[:]
END:VEVENT
END:VCALENDAR