BEGIN:VCALENDAR
VERSION:2.0
PRODID:-//wp-events-plugin.com//7.2.3.1//EN
BEGIN:VEVENT
UID:148@ibsu.edu.ge
DTSTART:20261005T060000Z
DTEND:20261010T060000Z
DTSTAMP:20260416T132308Z
URL:https://ibsu.edu.ge/en/events/%e1%83%a1%e1%83%90%e1%83%94%e1%83%a0%e1%
 83%97%e1%83%90%e1%83%a8%e1%83%9d%e1%83%a0%e1%83%98%e1%83%a1%e1%83%9d-%e1%8
 3%a1%e1%83%a2%e1%83%90%e1%83%a4%e1%83%98%e1%83%a1-%e1%83%99%e1%83%95%e1%83
 %98%e1%83%a0/
SUMMARY:[:ge]საერთაშორისო სტაფის კვ
 ირეული[:en]International Staff Week[:]
DESCRIPTION:[:ge]პარტნიორი უნივერსიტე
 ტებისთვის შექმნილი ეს ინიც
 იატივა ხელს უწყობს საერთაშ
 ორისო თანამშრომლობას პროფე
 სიული სემინარებისა და ქსელ
 ური კავშირების მეშვეობით\, რ
 აც ხელს უწყობს აკადემიური დ
 ა ადმინისტრაციული წარმატებ
 ის გლობალურ სტანდარტებს.[:en]Tai
 lored for partner universities\, this initiative fosters international col
 laboration through professional workshops and networking\, promoting globa
 l standards in academic and administrative excellence.[:]
END:VEVENT
END:VCALENDAR