BEGIN:VCALENDAR
VERSION:2.0
PRODID:-//wp-events-plugin.com//7.2.3.1//EN
BEGIN:VEVENT
UID:150@ibsu.edu.ge
DTSTART:20260423T080000Z
DTEND:20260423T090000Z
DTSTAMP:20260420T093803Z
URL:https://ibsu.edu.ge/en/events/%e1%83%a1%e1%83%90%e1%83%9b%e1%83%ae%e1%
 83%a0%e1%83%94%e1%83%97-%e1%83%99%e1%83%9d%e1%83%a0%e1%83%94%e1%83%98%e1%8
 3%a1-%e1%83%94%e1%83%9a%e1%83%a9%e1%83%98%e1%83%a1-%e1%83%b0%e1%83%98%e1%8
 3%9d/
SUMMARY:[:ge]სამხრეთ კორეის ელჩის\, ჰ
 იონ დუ კიმის საჯარო ლექცია კ
 ორეა-საქართველოს ურთიერთობ
 ების შესახებ[:en] Public Lecture by H.E. Hyon Du Kim
  on Korea–Georgia Relations[:]
DESCRIPTION:[:ge]გიწვევთ საჯარო ლექცი
 აზე\, რომელსაც სამხრეთ კორეი
 ს ელჩი გამართავს. ღონისძიებ
 ა ჩატარდება 23 აპრილს\, 12:00 საათ
 ზე\, B კორპუსის ბიბლიოთეკაში.\
 n\nლექციის თემა: კორეა-საქართ
 ველოს ურთიერთობების გაძლიე
 რება მომავალი პარტნიორობის
 ათვის.\n\nლექციის ფარგლებში გ
 ანხილული იქნება კორეასა და 
 საქართველოს შორის არსებული
  ურთიერთობების დინამიკა\, კო
 რეის განვითარების გზა და სა
 მომავლო თანამშრომლობის პერ
 სპექტივები. აღნიშნული შეხვ
 ედრა განსაკუთრებით საინტერ
 ესო იქნება მათთვის\, ვინც და
 ინტერესებულია საერთაშორის
 ო ურთიერთობებითა და დიპლომ
 ატიური კარიერით.[:en]We are pleased to invite 
 you to a public lecture hosted by the Ambassador of South Korea on April 2
 3 at 12:00 PM  in the B Building Library.\n\nTitle: Strengthening Korea–
 Georgia Relations toward Future Partnership\n\nThe lecture will explore th
 e current state of relations between Korea and Georgia\, highlight Korea
 ’s development\, and discuss opportunities for future cooperation. It is
  especially relevant for those interested in international relations and d
 iplomatic careers.[:]
END:VEVENT
END:VCALENDAR