BEGIN:VCALENDAR
VERSION:2.0
PRODID:-//wp-events-plugin.com//7.2.3.1//EN
BEGIN:VEVENT
UID:106@ibsu.edu.ge
DTSTART:20250513T070000Z
DTEND:20250513T080000Z
DTSTAMP:20250506T090536Z
URL:https://ibsu.edu.ge/en/events/%e1%83%a2%e1%83%a0%e1%83%94%e1%83%9c%e1%
 83%98%e1%83%9c%e1%83%92%e1%83%98-%e1%83%a1%e1%83%90%e1%83%9b%e1%83%94%e1%8
 3%aa%e1%83%9c%e1%83%98%e1%83%94%e1%83%a0%e1%83%9d-%e1%83%91%e1%83%90%e1%83
 %96%e1%83%94/
SUMMARY:[:ge]ტრენინგი სამეცნიერო ბა
 ზებთან დაკავშირებით[:]
DESCRIPTION:[:ge]შავი ზღვის საერთაშორ
 ისო უნივერსიტეტის\, აკადემი
 ური პერსონალისთვის\, დაგეგმ
 ილია ტრენინგი სამეცნიერო ბ
 აზებთან დაკავშირებით.\n\nტრე
 ნერი: მარიკა ჟორჟოლიანი\, ლი
 ცენზირების კოორდინატორი\, ს
 აქართველოს ბიბლიოთეკების ი
 ნტეგრირებული საინფორმაციო 
 ქსელის კონსორციუმის ლიცენზ
 ირების კორდინატორი\n&nbsp\;\n 13 მა
 ისი\n\n 11:00 საათი\n\n B302 აუდიტორია
  \n \nდასწრების მსურველებმა გ
 აიარეთ რეგისტრაცია ბმულზე \
 nhttps://forms.gle/41eYF69BYZ5a5JAM8[:]
ATTACH;FMTTYPE=image/jpeg:https://ibsu.edu.ge/wp-content/uploads/2025/05/i
 stockphoto-1059510610-612x612-1.jpg
END:VEVENT
END:VCALENDAR