BEGIN:VCALENDAR
VERSION:2.0
PRODID:-//wp-events-plugin.com//7.2.3.1//EN
BEGIN:VEVENT
UID:33@ibsu.edu.ge
DTSTART:20250307T110000Z
DTEND:20250307T120000Z
DTSTAMP:20250305T115443Z
URL:https://ibsu.edu.ge/en/events/%e1%83%a6%e1%83%98%e1%83%90-%e1%83%99%e1
 %83%90%e1%83%a0%e1%83%98%e1%83%a1-%e1%83%93%e1%83%a6%e1%83%94-12/
SUMMARY:[:ge]ღია კარის დღე [:en]IBSU Open Day[:]
DESCRIPTION:[:ge]\nაბიტურიენტებო\, ყოვე
 ლ პარასკევს\, 15:00 საათზე\,  IBSU გე
 ლოდებათ ღია კარის დღეზე!\nგა
 ეცანი IBSU-ს საბაკალავრო პროგრ
 ამებს\, უნივერსიტეტის შეთავ
 აზებებს და დაათვალიერე კამ
 პუსი. დასვი კითხვები და მიიღ
 ე ამომწურავი ინფორმაცია.\nმო
 ემზადე სტუდენტური თავგადას
 ავლებისთვის\, გელოდებით IBSU-შ
 ი.\nდარეგისტრირდი  https://forms.gle/XwpV3kaf
 KfFLMKJGA\n\n[:en]IBSU Open Day will be held every Friday at 3 pm.\n\nRegi
 ster in advance: https://forms.gle/XwpV3kafKfFLMKJGA[:]
ATTACH;FMTTYPE=image/jpeg:https://ibsu.edu.ge/wp-content/uploads/2024/11/U
 ntitled-1-01-scaled-1.jpg
END:VEVENT
END:VCALENDAR