BEGIN:VCALENDAR
VERSION:2.0
PRODID:-//wp-events-plugin.com//7.2.3.1//EN
BEGIN:VEVENT
UID:54@ibsu.edu.ge
DTSTART:20250418T110000Z
DTEND:20250418T120000Z
DTSTAMP:20250318T081801Z
URL:https://ibsu.edu.ge/en/events/%e1%83%a6%e1%83%98%e1%83%90-%e1%83%99%e1
 %83%90%e1%83%a0%e1%83%98%e1%83%a1-%e1%83%93%e1%83%a6%e1%83%94-18-04-2025/
SUMMARY:[:ge]ღია კარის დღე 18/04/2025[:en]IBSU Open D
 ay[:]
DESCRIPTION:[:ge]\n\n\n\n\n\n\n\n\nაბიტურიენტებო\
 , ყოველ პარასკევს\, 15:00 საათზე\,
   IBSU გელოდებათ ღია კარის დღე
 ზე!\nგაეცანი IBSU-ს საბაკალავრო
  პროგრამებს\, უნივერსიტეტის 
 შეთავაზებებს და დაათვალიერ
 ე კამპუსი. დასვი კითხვები და
  მიიღე ამომწურავი ინფორმაც
 ია.\nმოემზადე სტუდენტური თავ
 გადასავლებისთვის\, გელოდებ
 ით IBSU-ში.\nდარეგისტრირდი  https://f
 orms.gle/XwpV3kafKfFLMKJGA\n\n\n\n\n\n\n\n\n\n\n\n\n[:en]IBSU Open Day wil
 l be held every Friday at 3 pm.\n\nRegister in advance: https://forms.gle
 /XwpV3kafKfFLMKJGA[:]
ATTACH;FMTTYPE=image/jpeg:https://ibsu.edu.ge/wp-content/uploads/2024/11/U
 ntitled-1-01-scaled-1.jpg
END:VEVENT
END:VCALENDAR