BEGIN:VCALENDAR
VERSION:2.0
PRODID:-//wp-events-plugin.com//7.2.3.1//EN
BEGIN:VEVENT
UID:83@ibsu.edu.ge
DTSTART:20250429T103000Z
DTEND:20250429T113000Z
DTSTAMP:20250423T093246Z
URL:https://ibsu.edu.ge/en/events/%e1%83%a8%e1%83%94%e1%83%ae%e1%83%95%e1%
 83%93%e1%83%98-%e1%83%99%e1%83%9d%e1%83%9b%e1%83%9e%e1%83%90%e1%83%9c%e1%8
 3%98%e1%83%90%e1%83%a1-%e1%83%93%e1%83%90-%e1%83%93%e1%83%90%e1%83%a1%e1%8
 3%90/
SUMMARY:[:ge]შეხვდი კომპანიას და და
 საქმდი ადგილზე[:]
DESCRIPTION:[:ge]IBSU-ს კარიერის განვითარ
 ების სამსახურის ორგანიზები
 თ 29 აპრილს\, 14:30 საათზე\, უნივერ
 სიტეტის ბიბლიოთეკაში დაგეგ
 მილია შეხვედრა კომპანია 'ჯე
 პრას' წარმომადგენლებთან.\nმე
 ნეჯმენტის\, ეკონომიკის\, ფინ
 ანსების\, საბუღალტრო აღრიცხ
 ვისა და აუდიტის II\, III და IV კურს
 ის სტუდენტებს საშუალება ექ
 ნებათ\, გაეცნონ კომპანიის სა
 ქმიანობას და ადგილზე მიიღო
 ნ დასაქმების რეალური შემოთ
 ავაზება.\nდასწრების მსურველ
 ები დარეგისტრირდით ბმულზე: 
 https://docs.google.com/.../1WQcA0q2U2P2XM2f61hT1.../preview[:]
ATTACH;FMTTYPE=image/jpeg:https://ibsu.edu.ge/wp-content/uploads/2025/04/
 ბ-ივენთი-01-scaled.png
END:VEVENT
END:VCALENDAR