BEGIN:VCALENDAR
VERSION:2.0
PRODID:-//wp-events-plugin.com//7.2.3.1//EN
BEGIN:VEVENT
UID:22@ibsu.edu.ge
DTSTART:20250218T110000Z
DTEND:20250218T130000Z
DTSTAMP:20250219T121548Z
URL:https://ibsu.edu.ge/en/events/%e1%83%aa%e1%83%98%e1%83%a4%e1%83%a0%e1%
 83%a3%e1%83%9a%e1%83%98-%e1%83%a2%e1%83%a0%e1%83%90%e1%83%9c%e1%83%a1%e1%8
 3%a4%e1%83%9d%e1%83%a0%e1%83%9b%e1%83%90%e1%83%aa%e1%83%98%e1%83%90-%e1%83
 %92%e1%83%94/
SUMMARY:[:ge]ციფრული ტრანსფორმაცია 
 გერმანიის ჯანდაცვის სისტემ
 აში[:en]Digital Transformation In German Healthcare & Innovative Dis
 infection Methods[:]
DESCRIPTION:[:ge]18 თებერვალს\, ცვიკაუს გ
 ამოყენებით მეცნიერებათა უნ
 ივერსიტეტის პროფესორი\, დოქ
 ტორი ტომ შაალი IBSU-ს სტუდენტე
 ბისთვის ჩაატარებს სამეცნიე
 რო შეხვედრას თემაზე "ციფრულ
 ი ტრანსფორმაცია გერმანიის 
 ჯანდაცვის სისტემაში და დეზ
 ინფექციის ინოვაციური მეთოდ
 ები."\n\nდრო/ადგილი: 15:00-17:00 | B კორპ
 უსი\, ბიბლიოთეკა[:en]On 18 February\, Prof. Dr.
  Tom Schaal of Healthcare Management at the University of Applied Scien
 ces in Zwickau will give a scientific talk to IBSU students on "Digital Tr
 ansformation in German Healthcare and Innovative Disinfection Methods."\n\
 nDate/Venue: 15:00-17:00 | B Block\, Library[:]
END:VEVENT
END:VCALENDAR