BEGIN:VCALENDAR
VERSION:2.0
PRODID:-//wp-events-plugin.com//7.2.3.1//EN
BEGIN:VEVENT
UID:93@ibsu.edu.ge
DTSTART:20250530T120000Z
DTEND:20250530T140000Z
DTSTAMP:20250505T111525Z
URL:https://ibsu.edu.ge/en/events/falling-walls-lab-georgia-2025/
SUMMARY:Falling Walls Lab Georgia 2025
DESCRIPTION:[:ge]თუ ხარ სტუდენტი\, ახალ
 გაზრდა მეცნიერი ან გამომგო
 ნებელი\, მიიღე მონაწილეობა ს
 ამეცნიერო დისკუსიაში\, რომე
 ლიც Falling Walls Labs ფორმატის ფარგლე
 ბში\, 30 მაისს\, თბილისში\, საქა
 რთველოს ეროვნულ მუზეუმში (შ
 ოთა რუსთაველის გამზ. 3) გაიმა
 რთება.\n\nგააცანი ჟიურის შენი 
 ინოვაციური იდეა ან კვლევით
 ი პროექტი 3-წუთიანი პრეზენტა
 ციით და მოიგე ბერლინის საგზ
 ური Falling Walls Lab-ის ფინალისთვის.\n\n
 დარეგისტრირდი 12 მაისამდე მი
 თითებულ ბმულზე: https://falling-walls.com/fallin
 g-walls-lab-georgia-0\n\nმონაწილეობა უფასო
 ა.[:en]Apply for the Falling Walls Lab Georgia 2025: Where Breakthrough 
 Ideas Take the Stage\n\nFalling Walls Lab is a global pitch competition an
 d networking forum that empowers students and early-career professionals t
 o present groundbreaking ideas in just three minutes.\n\nThis platform uni
 tes visionary minds from diverse disciplines\, offering them the opportuni
 ty to showcase their innovative solutions to pressing global challenges. E
 ach year\, Falling Walls Labs are hosted in countries worldwide\, providin
 g a stage for the most promising talents in science\, business\, and socie
 ty. Participants present their ideas in dynamic three-minute pitches\, ass
 essed by a distinguished jury of experts from academia and industry.\n\nTh
 e winners of the regional Labs earn a coveted spot at the global Falling W
 alls Lab Finale in Berlin on November 7\, where they compete for internati
 onal recognition and the chance to connect with leading thinkers and innov
 ators.\n\nApplications are now open until May 12 - https://falling-walls.c
 om/falling-walls-lab-georgia-0#apply\n\nThe event takes place on May 31\, 
 at 4:00 PM at the Art House | Museum of Fine Arts\n\n&nbsp\;[:]
ATTACH;FMTTYPE=image/jpeg:https://ibsu.edu.ge/wp-content/uploads/2025/04/L
 ab25_Georgia_PosterA2-8_page-0001-scaled.jpg
END:VEVENT
END:VCALENDAR