BEGIN:VCALENDAR
VERSION:2.0
PRODID:-//wp-events-plugin.com//7.2.3.1//EN
BEGIN:VEVENT
UID:129@ibsu.edu.ge
DTSTART:20250802T140000Z
DTEND:20250802T190000Z
DTSTAMP:20250709T132223Z
URL:https://ibsu.edu.ge/en/events/ibsu-%e1%83%a1-%e1%83%92%e1%83%90%e1%83%
 9b%e1%83%9d%e1%83%a1%e1%83%90%e1%83%a8%e1%83%95%e1%83%94%e1%83%91%e1%83%98
 -%e1%83%a1%e1%83%90%e1%83%a6%e1%83%90%e1%83%9b%e1%83%9d-2025/
SUMMARY:[:ge]IBSU-ს გამოსაშვები საღამო 
 2025[:en]IBSU 2025 Graduation Ceremony[:]
DESCRIPTION:[:ge]მოახლოვდა დღე\, რომელს
 აც უნივერსიტეტში სწავლის დ
 აწყების დღიდან ელით. ათიდან 
 უკუთვლით და ქუდის ცაში აგდე
 ბით სამყაროს ცხოვრების ახა
 ლი ეტაპის დაწყებას ამცნობთ.\
 n\nმოინიშნეთ და დაიმახსოვრეთ
 \, 2 აგვისტო! თქვენი კიდევ ერთ
 ი ბედნიერი დღე და თქვენს უნი
 ვერსიტეტთან დაკავშირებული 
 კიდევ ერთი ძვირფასი მოგონე
 ბა.\n\n2 აგვისტოს\, შავი ზღვის ს
 აერთაშორისო უნივერსიტეტის 
 კამპუსის ეზოში გაიმართება 20
 25 წლის კურსდამთავრებულთა გა
 მოსაშვები\, დაუვიწყარი საღა
 მო.\n\nკამპუსის ეზოში დაგხვდე
 ბათ ორი სცენა - ოფიციალური ც
 ერემონიისთვის\, სადაც გადმო
 გეცემათ სიგელი და კონცერტი
 სთვის\, სადაც თქვენთვის იმღე
 რებს ლინდა ადამია და ჯგუფი 1/4
  და დაუკრავს DJ.\n\nIBSU-ში დაგხვდე
 ბათ განსხვავებული\, ფერადი დ
 ა ლამაზი გარემო\, ფოტოსივრცე
 ები ბედნიერი წამების აღსაბ
 ეჭდად\, გემრიელი ფურშეტი\, ბე
 ვრი სასმელი და სადღესასწაუ
 ლო ტორტი.[:en]It's finally here: the day you've been waiting
  for since you started studying at university. With your hand raised and y
 our cap thrown into the air\, you mark the new beginning.\n\nSave the date
  – AUGUST 2 for the IBSU 2025 graduation ceremony - a celebration of you
 r university days and another memory you will cherish forever.\n\nIn the I
 BSU courtyard\, you will find two stages: one for the official ceremony\, 
 where you will receive your certificate\, and one for the concert\, where 
 Linda Adamia and 1/4 and\, DJ will perform.\n\nA unique\, colourful\, and 
 beautiful environment awaits you at IBSU. Here\, you will also find photo 
 booths for capturing and preserving happy moments\, a delicious buffet\, p
 lenty of drinks\, and a festive cake.[:]
ATTACH;FMTTYPE=image/jpeg:https://ibsu.edu.ge/wp-content/uploads/2025/07/G
 rad-2025-Event-01-01-scaled.jpg
END:VEVENT
END:VCALENDAR