BEGIN:VCALENDAR
VERSION:2.0
PRODID:-//wp-events-plugin.com//7.2.3.1//EN
BEGIN:VEVENT
UID:20@ibsu.edu.ge
DTSTART:20250129T103000Z
DTEND:20250129T113000Z
DTSTAMP:20250219T121356Z
URL:https://ibsu.edu.ge/en/events/journalism-program-photo-exhibition/
SUMMARY:[:ge]ჟურნალისტიკის პროგრამ
 ის სტუდენტების ფოტოგამოფენ
 ა[:en]Journalism Program Photo Exhibition[:]
DESCRIPTION:[:ge]29 იანვარს\, 14:30-ზე გაიმარ
 თება ჟურნალისტიკის საბაკალ
 ავრო პროგრამის სტუდენტების
  ფოტოგამოფენა.[:en]The IBSU campus will host a pho
 to exhibition of students from the Bachelor of Journalism program on Janua
 ry 29.[:]
END:VEVENT
END:VCALENDAR