BEGIN:VCALENDAR
VERSION:2.0
PRODID:-//wp-events-plugin.com//7.2.3.1//EN
BEGIN:VEVENT
UID:99@ibsu.edu.ge
DTSTART:20250516T110000Z
DTEND:20250516T120000Z
DTSTAMP:20250501T083835Z
URL:https://ibsu.edu.ge/events/%e1%83%92%e1%83%a0%e1%83%90%e1%83%a4%e1%83%
 98%e1%83%99%e1%83%98%e1%83%a3%e1%83%9a%e1%83%98-%e1%83%93%e1%83%98%e1%83%9
 6%e1%83%90%e1%83%98%e1%83%9c%e1%83%98%e1%83%a1-%e1%83%9e%e1%83%a0%e1%83%9d
 %e1%83%92/
SUMMARY:[:ge]გრაფიკიული დიზაინის პრ
 ოგრამის ღია კარის დღე[:en]Open day for
  Graphic Design program[:]
DESCRIPTION:[:ge]შავი ზღვის საერთაშორ
 ისო უნივერსიტეტი გიწვევთ გ
 რაფიკული დიზაინის ინგლისურ
 ენოვანი საბაკალავრო პროგრა
 მის ღია კარის დღეზე\, რომელი
 ც 16 მაისს\, 15:00 საათზე\, IBSU-ში გა
 იმართება.\n\nრა უნდა იცოდეთ გრ
 აფიკული დიზაინის ინგლისურე
 ნოვანი საბაკალავრო პროგრამ
 ის შესახებ:\n\nდიპლომი 3 წელიწ
 ადში!\nერთადერთი ინგლისურენ
 ოვანი გრაფიკული დიზაინის პ
 როგრამა საქართველოში\nკარი
 ერული შესაძლებლობები სწავლ
 ის დამთავრებამდე\nლექტორებ
 ი – ინდუსტრიის წამყვანი პრო
 ფესიონალები\nკომპლექსური კ
 ურიკულუმი\, რომელიც აერთიან
 ებს ვიზუალური კომუნიკაციის
  ყველა ასპექტს – ლოგოთი\, რეკ
 ლამით და ტიპოგრაფიით დაწყე
 ბული ბაზრის კვლევითა და სხვ
 ა მარკეტინგული პროცესებით 
 დამთავრებული.\n\nგრაფიკული დ
 იზაინის პროგრამის ხელმძღვა
 ნელები – მრავალწლიანი გამო
 ცდილების მქონე პროფესიონალ
 ები – გაგაცნობენ სრულ ინფორ
 მაციას პროგრამის მიზნების\, 
 ამოცანებისა და მიღების პრო
 ცედურების შესახებ.\n\nასევე\, 
 გაგიზიარებენ რჩევებს შემოქ
 მედებითი კონკურსის წარმატე
 ბით დაძლევისთვის.\n\nღია კარი
 ს დღეზე მოსულ მე-12 კლასელებს
  გადაეცემათ 1000-ლარიანი ვაუჩე
 რი\, რომლის გამოყენებასაც ის
 ინი შეძლებენ IBSU-ს გრაფიკული 
 დიზაინის პროგრამაზე ჩარიცხ
 ვის შემთხვევაში!\n\nღია კარის 
 დღეზე რეგისტრაცია: https://forms.gle/Q87D
 oArDq7MbYY299\n\nდეტალები პროგრამის შ
 ესახებ: https://shorturl.at/CGwNU[:en]International Black Sea
  University will hold the Graphic Design Bachelor's Program (English) Open
  Day on May 16\, 15:00 at IBSU.\n\nWhat you need to know about the English
 -Language Bachelor's Program in Graphic Design:\n\n Graduate in 3 years!\
 nThe only English-language Graphic Design program in Georgia\nCareer oppor
 tunities before graduation\nLearn from Industry-Leading Professionals\nA c
 omprehensive curriculum that combines all aspects of visual communication 
 - from logos\, advertising and typography to market research and various m
 arketing processes.\n\nHeads of Graphic Design Program – qualified profe
 ssionals in the field - will provide you with complete information about t
 he program's goals\, objectives and admission procedures.\n\nAs well as sh
 are tips for successfully overcoming the creative contest.\n\n12th graders
  who attend the Open Day will be given a 1\,000-GEL voucher\, which they c
 an use in case of enrolling in the IBSU Graphic Design program!\n\nSign up
  in advance: https://forms.gle/Q87DoArDq7MbYY299\nDetails about the progr
 am: https://shorturl.at/TeRpl[:]
ATTACH;FMTTYPE=image/jpeg:https://ibsu.edu.ge/wp-content/uploads/2025/05/
 რაფიკული-ივენთი-2-insta.png
END:VEVENT
END:VCALENDAR