BEGIN:VCALENDAR
VERSION:2.0
PRODID:-//wp-events-plugin.com//7.2.3.1//EN
BEGIN:VEVENT
UID:80@ibsu.edu.ge
DTSTART:20250427T090000Z
DTEND:20250427T110000Z
DTSTAMP:20250407T105913Z
URL:https://ibsu.edu.ge/events/%e1%83%94%e1%83%99%e1%83%9d%e1%83%9c%e1%83%
 9d%e1%83%9b%e1%83%98%e1%83%99%e1%83%a3%e1%83%a0%e1%83%98-%e1%83%98%e1%83%9
 b%e1%83%9e%e1%83%94%e1%83%a0%e1%83%98%e1%83%94%e1%83%91%e1%83%98/
SUMMARY:[:ge]ეკონომიკის ინტერაქტიუ
 ლი ტრენინგი[:]
DESCRIPTION:[:ge]📢 თუ სკოლის მოსწავლე 
 ხარ და ეკონომიკა გაინტერეს
 ებს\, IBSU გეპატიჟება ეკონომიკ
 ის ინტერაქტიულ ტრენინგზე - Eco
 noMind\n\n🎲 სახალისო თამაშებით დ
 ა სიმულაციებით გასწავლით თ
 უ როგორ უნდა გამოიყენოთ ეკო
 ნომიკა ყოველდღიურ ცხოვრება
 ში.\n\nტრენინგი მოიცავს:\n\n✅ თე
 ორიულ ცოდნას ეკონომიკის ძი
 რითადი კონცეფციების შესახე
 ბ\n✅ ინტერაქტიულ დავალებებს
  და ბიზნეს-სიმულაციებს\n✅ პრ
 აქტიკულ გამოცდილებას\n\nტრე
 ნინგის ყველა მონაწილეს გად
 აეცემა სერტიფიკატი.\n\nთარიღ
 ი/დრო: 27 აპრილი | 13:00\n\nდარეგისტ
 რირდი წინასწარ: https://shorturl.at/jrveT [:]
END:VEVENT
END:VCALENDAR