BEGIN:VCALENDAR
VERSION:2.0
PRODID:-//wp-events-plugin.com//7.2.3.1//EN
BEGIN:VEVENT
UID:49@ibsu.edu.ge
DTSTART:20250428T110000Z
DTEND:20250428T120000Z
DTSTAMP:20250304T133005Z
URL:https://ibsu.edu.ge/events/%e1%83%98%e1%83%9c%e1%83%99%e1%83%9a%e1%83%
 a3%e1%83%96%e1%83%98%e1%83%a3%e1%83%a0%e1%83%98-%e1%83%92%e1%83%90%e1%83%9
 c%e1%83%90%e1%83%97%e1%83%9a%e1%83%94%e1%83%91%e1%83%90-%e1%83%98%e1%83%9c
 %e1%83%92/
SUMMARY:[:ge]ინკლუზიური განათლება ი
 ნგლისში: მასწავლებელთა გამ
 ოწვევები და ეფექტური ინტერ
 ვენციები[:en]Inclusive Education in England: Teacher Chall
 enges and Effective Interventions[:]
DESCRIPTION:[:ge]28 აპრილს\, 3 საათზე\, შავ
 ი ზღვის საერთაშორისო უნივე
 რსიტეტში გაიმართება სემინა
 რი თემაზე - "ინკლუზიური განა
 თლება ინგლისში: მასწავლებე
 ლთა გამოწვევები და ეფექტურ
 ი ინტერვენციები\," რომელსაც 
 ჩაატარებს London South Bank University-ის სპე
 ციალური განათლების მაგისტრ
 ი და IBSU-ს დოქტორანტი ჟანა გოგ
 ინაშვილი.\n\nსემინარი მიმოიხ
 ილავს გამოწვევებს\, რომლებს
 აც აწყდებიან მასწავლებლები
  ინკლუზიური განათლების კუთ
 ხით და ეფექტურ ინტერვენციე
 ბს\, რომლებიც გამოიყენება ინ
 გლისში სპეციალური საგანმან
 ათლებლო საჭიროების მქონე მ
 ოსწავლეების მხარდასაჭერად.
 \n\nასევე\, სემინარზე განიხილე
 ბა ინკლუზიური სწავლების მი
 მართულებით მტკიცებულებებზ
 ე დაფუძნებული სტრატეგიები 
 და დამხმარე სისტემები. ინტე
 რაქტიურ დისკუსიაზე მონაწილ
 ეებს საშუალება ექნებათ იმუ
 შაონ კონკრეტულ ქეისებზე და 
 დასვან შეკითხვები.\n\nდასწრე
 ბის მსურველები დარეგისტრირ
 დით: https://shorturl.at/NWNKJ[:en]\nOn 28 April\, at 3 PM\, IBSU w
 ill host a seminar on "Inclusive Education in England: Teacher Challenges 
 and Effective Interventions\," to be led by Zhana Goginashvili\, MA in Spe
 cial Education from London South Bank University\, and IBSU PhD student.\n
 \n\n\nThe seminar will focus on the real-world challenges teachers face in
  delivering inclusive education and the effective interventions used in En
 gland to support students with Special Educational Needs (SEN).\n\n\n\nThe
  session will provide insights into evidence-based strategies\, classroom 
 adaptations\, and support systems that enable inclusive teaching. The semi
 nar will be highly interactive\, featuring case studies\, group discussion
 s\, and a Q&amp\;A session to ensure meaningful engagement and practical t
 akeaways for educators.\n\n\n\nRegister to attend: https://shorturl.at/NW
 NKJ\n[:]
ATTACH;FMTTYPE=image/jpeg:https://ibsu.edu.ge/wp-content/uploads/2025/03/F
 B-scaled.jpg
END:VEVENT
END:VCALENDAR