BEGIN:VCALENDAR
VERSION:2.0
PRODID:-//wp-events-plugin.com//7.2.3.1//EN
BEGIN:VEVENT
UID:23@ibsu.edu.ge
DTSTART:20250222T093000Z
DTEND:20250222T123000Z
DTSTAMP:20250219T121248Z
URL:https://ibsu.edu.ge/events/%e1%83%9e%e1%83%a0%e1%83%9d%e1%83%94%e1%83%
 a5%e1%83%a2%e1%83%94%e1%83%91%e1%83%98%e1%83%a1-%e1%83%9b%e1%83%90%e1%83%a
 0%e1%83%97%e1%83%95%e1%83%90-%e1%83%a1%e1%83%99%e1%83%9d%e1%83%9a%e1%83%98
 /
SUMMARY:[:ge]პროექტების მართვა სკოლ
 ის მოსწავლეებისთვის[:en]Project Manage
 ment For Pupils[:]
DESCRIPTION:[:ge]IBSU-ს უფასო ტრენინგი ''პრ
 ოექტების მართვა" იწყება!\n\nმო
 დი 22-23 თებერვალს ჩვენს უფასო 
 ტრენინგზე და შეისწავლე პრო
 ექტების მართვის თანამედროვ
 ე მეთოდები.\n\nჩვენთან ისწავლ
 ი თუ როგორ:\n\n 	დაგეგმო და მართ
 ო პროექტები\n 	 იმუშაო გუნდთა
 ნ ერთად ეფექტურად\n 	 გამოიყე
 ნო დრო სწორად\n 	 წარმოადგინო
  შენი იდეები წარმატებით\n 	 ი
 მუშაო რეალურ პროექტებზე პრ
 აქტიკულად!\n\nტრენინგზე დაგხ
 ვდებათ თეორიული ნაწილი\, და 
 მრავალფეროვანი პრაქტიკული 
 სამუშაოები\, სადაც რეალურ ამ
 ოცანებზე მუშაობით გაიუმჯობ
 ესებთ პროექტების დაგეგმვის
 \, მართვისა და გუნდთან თანამ
 შრომლობის უნარებს.\n\nშაბათი: 
 13:30 | კვირა: 13:30\n\nდარეგისტრირდი:
  https://forms.gle/cBp2Hu7XgBkTQecS6[:en]IBSU's free training "Project Man
 agement" is starting!\n\nJoin our free training on February 22-23 and lear
 n modern project management methods.\n\nYou will learn how to:\n\n- Plan a
 nd manage projects\n- Work effectively with a team\n- Use time correctly\n
 - Successfully present your ideas\n- Work on real projects practically!\n\
 nAt the training\, you will find theoretical content and diverse practical
  exercises where you will improve your project planning\, management\, and
  team collaboration skills by working on real tasks.\n\nSaturday: 1:30 PM 
 | Sunday: 1:30 PM\n\nRegister: https://forms.gle/cBp2Hu7XgBkTQecS6[:]
END:VEVENT
END:VCALENDAR