BEGIN:VCALENDAR
VERSION:2.0
PRODID:-//wp-events-plugin.com//7.2.3.1//EN
BEGIN:VEVENT
UID:75@ibsu.edu.ge
DTSTART:20250426T100000Z
DTEND:20250426T110000Z
DTSTAMP:20250326T080345Z
URL:https://ibsu.edu.ge/events/%e1%83%9e%e1%83%a0%e1%83%9d%e1%83%94%e1%83%
 a5%e1%83%a2%e1%83%94%e1%83%91%e1%83%98%e1%83%a1-%e1%83%9b%e1%83%90%e1%83%a
 0%e1%83%97%e1%83%95%e1%83%90/
SUMMARY:[:ge]პროექტების მართვა[:en]Project 
 Management [:]
DESCRIPTION:[:ge]ხარ სკოლის მოსწავლე? გ
 აინტერესებს პროექტების მარ
 თვა?\n\nმაშინ მოდი IBSU-ს უფასო ტრ
 ენინგზე და ისწავლე პროექტე
 ბის მართვის თანამედროვე მე
 თოდები.\n\nჩვენ გასწავლით:\n\n 	პ
 როექტების დაგეგმვა/მართვას
 \n 	გუნდთან ეფექტურ მუშაობას\n
  	დროის სწორად გამოყენებას\n 	
 იდეების გენერირება/წარდგენ
 ას\n\nტრენინგზე დაგხვდება თე
 ორიული ნაწილი და საინტერეს
 ო პრაქტიკული სამუშაოები.\n\nდ
 არეგისტრირდი წინასწარ: https://for
 ms.gle/6zoFsChaf4v2G7sZA\n\n26 აპრილი | 14:00\n\nშავი 
 ზღვის საერთაშორისო უნივერს
 იტეტი\, აღმაშენებლის ხეივან
 ი\, მე-13 კმ\, N2.[:]
END:VEVENT
END:VCALENDAR