BEGIN:VCALENDAR
VERSION:2.0
PRODID:-//wp-events-plugin.com//7.2.3.1//EN
BEGIN:VEVENT
UID:77@ibsu.edu.ge
DTSTART:20250427T090000Z
DTEND:20250427T100000Z
DTSTAMP:20250331T114128Z
URL:https://ibsu.edu.ge/events/%e1%83%9f%e1%83%a3%e1%83%a0%e1%83%9c%e1%83%
 90%e1%83%9a%e1%83%98%e1%83%a1%e1%83%a2%e1%83%98%e1%83%99%e1%83%90-%e1%83%9
 b%e1%83%9d%e1%83%a1%e1%83%ac%e1%83%90%e1%83%95%e1%83%9a%e1%83%94%e1%83%94-
 3/
SUMMARY:[:ge]ჟურნალისტიკა მოსწავლე
 ებისთვის [:]
DESCRIPTION:[:ge]გაინტერესებს ჟურნალი
 სტიკა\, ახალი ამბების შექმნა
 \, ინტერვიუს აღება\, სტატიები
 ს წერა და მედიაში მუშაობის რ
 ეალური პროცესი? მაშინ IBSU-ს უფ
 ასო ტრენინგი შენთვისაა!\n\nმო
 დი IBSU-ში 27 აპრილს\, 13:00 საათზე და
  გაიგე მეტი შემდეგი მიმართუ
 ლებების შესახებ:\n\n▶︎ ჟურნალ
 ისტიკა\, როგორც პროფესია\n\n▶︎
  ჟურნალისტიკის ეთიკის საკი
 თხები\n\n▶︎ ახალი ამბების მომ
 ზადება\n\n▶︎ ინფორმაციის გად
 ამოწმების ხერხები\n\nდარეგის
 ტრირდი ახლავე: https://shorturl.at/hllCM[:]
END:VEVENT
END:VCALENDAR