BEGIN:VCALENDAR
VERSION:2.0
PRODID:-//wp-events-plugin.com//7.2.3.1//EN
BEGIN:VEVENT
UID:151@ibsu.edu.ge
DTSTART:20260423T100000Z
DTEND:20260423T100000Z
DTSTAMP:20260421T132039Z
URL:https://ibsu.edu.ge/events/%e1%83%a6%e1%83%98%e1%83%90-%e1%83%99%e1%83
 %90%e1%83%a0%e1%83%98%e1%83%a1-%e1%83%93%e1%83%a6%e1%83%94-18/
SUMMARY:[:ge]ღია კარის დღე[:en]Open Day[:]
DESCRIPTION:[:ge]შავი ზღვის საერთაშორ
 ისო უნივერსიტეტი გიწვევთ ღ
 ია კარის დღეზე.\n\nშეხვედრა სა
 უკეთესო შესაძლებლობაა მათთ
 ვის\, ვისაც სურს მიიღოს ამომ
 წურავი ინფორმაცია უნივერსი
 ტეტის საბაკალავრო პროგრამე
 ბისა და სტუდენტური შესაძლე
 ბლობების შესახებ.\n\nღონისძი
 ების ფარგლებში თქვენ შეძლე
 ბთ:\n\n 	გაეცნოთ აკრედიტებულ ქ
 ართულენოვან და ინგლისურენო
 ვან პროგრამებს\;\n 	მიიღოთ ინფ
 ორმაცია გაცვლითი პროგრამებ
 ისა და საერთაშორისო პარტნი
 ორობების შესახებ\;\n 	გაიგოთ მ
 ეტი შიდა საუნივერსიტეტო გრ
 ანტებისა და დაფინანსების ს
 ისტემის თაობაზე\;\n 	დაათვალი
 ეროთ საუნივერსიტეტო კამპუს
 ი\, ბიბლიოთეკა და თანამედროვ
 ე ლაბორატორიები.\n\nშეხვედრი
 ს ბოლოს საშუალება გექნებათ\,
  პირისპირ გაესაუბროთ სკოლე
 ბის დეკანებსა და ადმინისტრ
 აციის წარმომადგენლებს თქვე
 ნთვის საინტერესო კითხვებზე
  პასუხების მისაღებად.\n\nრეგი
 სტრაციისთვის გადადით ბმულზ
 ე: https://ibsu.edu.ge/ღია-კარის-დღე/\n\nგელ
 ოდებით!\n\n📍 დავით აღმაშენებლ
 ის ხეივანი\, მე-13 კმ. N2\, თბილის
 ი[:]
END:VEVENT
END:VCALENDAR