BEGIN:VCALENDAR
VERSION:2.0
PRODID:-//wp-events-plugin.com//7.2.3.1//EN
BEGIN:VEVENT
UID:144@ibsu.edu.ge
DTSTART:20260331T120000Z
DTEND:20260331T130000Z
DTSTAMP:20260324T081644Z
URL:https://ibsu.edu.ge/events/%e1%83%a8%e1%83%94%e1%83%ae%e1%83%95%e1%83%
 94%e1%83%93%e1%83%a0%e1%83%90-hr-%e1%83%99%e1%83%9d%e1%83%9c%e1%83%a1%e1%8
 3%a3%e1%83%9a%e1%83%a2%e1%83%90%e1%83%9c%e1%83%a2%e1%83%97%e1%83%90%e1%83%
 9c/
SUMMARY:[:ge]შეხვედრა HR კონსულტანტთ
 ან[:en]Meeting with an HR Consultant[:]
DESCRIPTION:[:ge]სტაჟირებას/დასაქმება
 ს გეგმავ\, მაგრამ CV-ს წერა შენ
 ი ძლიერი მხარე ჯერ არ არის\, ა
 ნ LinkedIn-ზე უბრალოდ არსებობ ან ა
 რ აქტიურობ  ეს ლექცია შენთვ
 ისაა.\n\n31 მარტს\, 16:00 საათზე\, IBSU-შ
 ი გვეწვევა თეონა ბაღათურია 
  გამოცდილი HR კონსულტანტი\, რო
 მელიც გაგიზიარებთ:\n\n 	როგორ 
 გააკეთო CV\, რომელიც არ დაიკარ
 გება\,\n 	როგორ შექმნა LinkedIn პროფ
 ილი\, რომელიც დამსაქმებელს თ
 ავად მოიზიდავს\,\n 	რა უნდა თქ
 ვა და რა არ უნდა თქვა გასაუბ
 რებაზე\,\n 	როგორ გახდე გამორჩ
 ეული მაშინაც\, როცა გამოცდილ
 ება თითქმის არ გაქვს.\n\nბიბლი
 ოთეკის საკონფერენციო.[:en]Are you pl
 anning to apply for an internship or a job\, but feel that CV writing is n
 ot yet your strong suit?\n\nOr perhaps you have a LinkedIn profile but are
 n’t actively using it? Then this session is for you. On March 31 at 16:0
 0\, IBSU will host Teona Bagaturia\, an experienced HR consultant\, who wi
 ll share insights on:\n\n 	How to create a CV that stands out and gets not
 iced\n 	How to build a LinkedIn profile that attracts employers\n 	What to
  say and what to avoid during a job interview\n 	How to differentiate your
 self\, even with little or no experience\n\nAuditorium Library Conference 
 Hall[:]
END:VEVENT
END:VCALENDAR