BEGIN:VCALENDAR
VERSION:2.0
PRODID:-//wp-events-plugin.com//7.2.3.1//EN
BEGIN:VEVENT
UID:121@ibsu.edu.ge
DTSTART:20250519T120000Z
DTEND:20250519T130000Z
DTSTAMP:20250515T084949Z
URL:https://ibsu.edu.ge/events/adolescence-%e1%83%a1%e1%83%94%e1%83%a0%e1%
 83%98%e1%83%90%e1%83%9a%e1%83%98%e1%83%a1-%e1%83%a4%e1%83%a1%e1%83%98%e1%8
 3%a5%e1%83%9d%e1%83%9a%e1%83%9d%e1%83%92%e1%83%98%e1%83%a3%e1%83%a0%e1%83%
 98/
SUMMARY:[:ge]Adolescence - სერიალის ფსიქოლო
 გიური ასპექტები [:]
DESCRIPTION:[:ge]19 მაისს\, 16:00 საათზე შავი
  ზღვის საერთაშორისო უნივერ
 სიტეტში ფსიქოთერაპევტი და 
 ფსიქოლოგიის სკოლა ანიმოტერ
 მის თანადამფუძნებელი\, შოთა 
 ბერულავა გამართავს საჯარო 
 ლექციას თემაზე Adolescence - სერიალ
 ის ფსიქოლოგიური ასპექტები.\n
 \nშეხვედრაზე სტუდენტები მიი
 ღებენ ინფორმაციას თაობათა 
 შორის ემოციური და სოციალურ
 ი ხიდჩატეხილობის შესახებ დ
 ა თუ როგორ ეჯახებიან ახალგა
 ზრდები საკუთარ სურვილებს.\n\n
 ადგილი: ბიბლიოთეკა[:]
END:VEVENT
END:VCALENDAR