BEGIN:VCALENDAR
VERSION:2.0
PRODID:-//wp-events-plugin.com//7.2.3.1//EN
BEGIN:VEVENT
UID:145@ibsu.edu.ge
DTSTART:20260403T120000Z
DTEND:20260403T130000Z
DTSTAMP:20260331T114003Z
URL:https://ibsu.edu.ge/events/bank-of-georgia-ibsu-%e1%83%a8%e1%83%98-%e1
 %83%a1%e1%83%a2%e1%83%a3%e1%83%9b%e1%83%a0%e1%83%90%e1%83%93/
SUMMARY:[:ge]Bank of Georgia  IBSU-ში სტუმრად[:en]Bank of
  Georgia Visits IBSU[:]
DESCRIPTION:[:ge]„საქართველოს ბანკი“ 
 ერთ–ერთი წამყვანი დამსაქმე
 ბელი ქართულ ბაზარზე\, რომელი
 ც სტუდენტებისთვის ქმნის პრ
 ოფესიული ზრდისა და გამოცდი
 ლების მიღების რეალურ შესაძ
 ლებლობებს. BOG-ის წარმომადგენ
 ლები გაგაცნობენ: ორგანიზაც
 იის საქმიანობასა და ორგანი
 ზაციულ კულტურას\; ინფორმაცი
 ას საქართველოს ბანკში კარი
 ერის განვითარებისა და სტაჟ
 ირების პროგრამების შესახებ
 \; პრაქტიკული რჩევებს\, თუ როგ
 ორ განავითაროთ საკუთარი კა
 რიერა საბანკო სექტორში და გ
 აზარდოთ პროფესიული შესაძლე
 ბლობები\; შეხვედრა დასრულდე
 ბა კითხვა-პასუხის სესიით.\n\nა
 უდიტორია: A101[:en]Bank of Georgia\, one of the leading em
 ployers in the Georgian market\, offers students real opportunities for pr
 ofessional growth and hands-on experience.\n\nDuring the session\, represe
 ntatives from Bank of Georgia will introduce:\nthe organization’s operat
 ions and corporate culture\;\ncareer development paths and internship prog
 rams within the bank\;\npractical advice on how to build a successful care
 er in the banking sector and enhance your professional potential.\nThe mee
 ting will conclude with an interactive Q&amp\;A session.\n\nAuditorium: A1
 01[:]
END:VEVENT
END:VCALENDAR