BEGIN:VCALENDAR
VERSION:2.0
PRODID:-//wp-events-plugin.com//7.2.3.1//EN
BEGIN:VEVENT
UID:149@ibsu.edu.ge
DTSTART:20261010T060000Z
DTEND:20261010T060000Z
DTSTAMP:20260416T132508Z
URL:https://ibsu.edu.ge/events/ibsu-%e1%83%a1-%e1%83%a1%e1%83%90%e1%83%94%
 e1%83%a0%e1%83%97%e1%83%90%e1%83%a8%e1%83%9d%e1%83%a0%e1%83%98%e1%83%a1%e1
 %83%9d-%e1%83%99%e1%83%a3%e1%83%9a%e1%83%a2%e1%83%a3%e1%83%a0%e1%83%98%e1%
 83%a1/
SUMMARY:[:ge]IBSU-ს საერთაშორისო კულტუ
 რის ფესტივალი[:en]IBSU International Culture Festi
 val[:]
DESCRIPTION:[:ge]გლობალური მრავალფერო
 ვნების აღნიშვნის მიზნით\, ეს
  ფესტივალი ხელს უწყობს კულტ
 ურათაშორის დიალოგს ჩვენი ს
 აერთაშორისო სტუდენტური საზ
 ოგადოების ტრადიციების\, სამ
 ზარეულოსა და მხატვრული გამ
 ოხატვის წარმოჩენით.[:en]Celebrating glob
 al diversity\, this festival promotes intercultural dialogue by showcasing
  the traditions\, cuisines\, and artistic expressions of our international
  student community.[:]
END:VEVENT
END:VCALENDAR