BEGIN:VCALENDAR
VERSION:2.0
PRODID:-//wp-events-plugin.com//7.2.3.1//EN
BEGIN:VEVENT
UID:105@ibsu.edu.ge
DTSTART:20250505T070000Z
DTEND:20250505T080000Z
DTSTAMP:20250502T112522Z
URL:https://ibsu.edu.ge/events/public-lecture-the-new-wave-of-islamic-bank
 ing/
SUMMARY:[:ge]Public Lecture: "The new wave of Islamic Banking"[:]
DESCRIPTION:[:ge]On 5 May\, at IBSU will be held Public Lecture on topics: 
 "The development of fintechs locally and it's position as a financial hub"
  and "The new wave of Islamic Banking".\n\nSpeakers:  Jeremy Mah Waye Sha
 wn\,  Andrea Borroni\n\n📍| Library\n🕛| 11:00\n\n&nbsp\;[:]
END:VEVENT
END:VCALENDAR